Workbook

Sheet Entrada de Modelos
A1: PLANO DE VENDAS A CINCO ANOS
A3: Nome da empresa
A5: PREVISÃO DE VENDAS
B6: Unidades vendidas Uma vez por ano | C6: Média Preço unitário | D6: Rendimento Anual Produto secundário
A7: Produto 1 | B7: 250 | C7: 125 | D7: =IF(OR(ISBLANK(B7),ISBLANK(C7)),0,B7*C7) -> 31250
A8: Produto 2 | B8: 430 | C8: 100 | D8: =IF(OR(ISBLANK(B8),ISBLANK(C8)),0,B8*C8) -> 43000
A9: Produto 3 | B9: 210 | C9: 65 | D9: =IF(OR(ISBLANK(B9),ISBLANK(C9)),0,B9*C9) -> 13650
A10: Produto 4 | B10: 540 | C10: 25 | D10: =IF(OR(ISBLANK(B10),ISBLANK(C10)),0,B10*C10) -> 13500
A12: RECEITAS TOTAIS PROJETADAS | D12: =SUM(D7:D10) -> 101400
A14: CUSTO DAS MERCADORIAS VENDIDAS
B15: Esperado Margem bruta | D15: Custos anuais de Bens vendidos
A16: =A7 -> Produto 1 | B16: 0.3 | D16: =IF(ISBLANK(B16),0,D7*B16) -> 9375
A17: =A8 -> Produto 2 | B17: 0.25 | D17: =IF(ISBLANK(B17),0,D8*B17) -> 10750
A18: =A9 -> Produto 3 | B18: 0.25 | D18: =IF(ISBLANK(B18),0,D9*B18) -> 3412.5
A19: =A10 -> Produto 4 | B19: 0.3 | D19: =IF(ISBLANK(B19),0,D10*B19) -> 4050
A21: CUSTO TOATL DAS MERCADORIAS VENDIDAS | D21: =SUM(D16:D19) -> 27587.5
A23: MANUTENÇÃO, REPARAÇÃO E REVISÃO ANUAL
A25: Fator de investimento (%) | B25: 0.15
A28: DEPRECIAÇÃO DE ATIVOS
A30: Número de anos | B30: 5
A33: TAXA
A35: Taxa anual de imposto | B35: 0.3
A38: INFLAÇÃO
A40: Taxa anual de inflação | B40: 0.02
A43: AUMENTO DO PREÇO DO PRODUTO
A45: Aumento anual de preços | B45: 0.02
A48: FINANCIAMENTO
A50: Montante do empréstimo | B50: 50000
A51: Taxa de juro anual | B51: 0.05
A52: Prazo do empréstimo (meses) | B52: 60
A53: Taxa mensal | B53: =(1+'Entrada de Modelos'!B51)^(1/12)-1 -> 0.0040741238
A54: Pagamento | B54: =IF(ISBLANK(B52),0,-PMT('Entrada de Modelos'!B53,'Entrada de Modelos'!B52,'Entrada de Modelos'!B50)) -> 941.01992
A55: Montante total a pagar | B55: =IF(ISBLANK(B52),0,B52*B54) -> 56461.195

Sheet Lucros e prejuízos
A1: PREVISÃO DE LUCROS E PREJUÍZOS
A3: Nome da empresa
A5: OBTENÇÃO DE LUCROS E PREJUÍZOS
B6: Ano 1 | C6: Ano 2 | D6: Ano 3 | E6: Ano 4 | F6: Ano 5
A7: Aumento anual do preço acumulado (volume de negócios) | B7: =IF(ISBLANK('Entrada de Modelos'!$B$45),0,(COLUMN(B7)-COLUMN($B$7))*'Entrada de Modelos'!$B$45) -> 0 | C7: =IF(ISBLANK('Entrada de Modelos'!$B$45),0,(COLUMN(C7)-COLUMN($B$7))*'Entrada de Modelos'!$B$45) -> 0.02 | D7: =IF(ISBLANK('Entrada de Modelos'!$B$45),0,(COLUMN(D7)-COLUMN($B$7))*'Entrada de Modelos'!$B$45) -> 0.04 | E7: =IF(ISBLANK('Entrada de Modelos'!$B$45),0,(COLUMN(E7)-COLUMN($B$7))*'Entrada de Modelos'!$B$45) -> 0.06 | F7: =IF(ISBLANK('Entrada de Modelos'!$B$45),0,(COLUMN(F7)-COLUMN($B$7))*'Entrada de Modelos'!$B$45) -> 0.08
A8: Aumento anual acumulado da inflação (despesa) | B8: =IF(ISBLANK('Entrada de Modelos'!$B$40),0,(COLUMN(B8)-COLUMN($B$8))*'Entrada de Modelos'!$B$40) -> 0 | C8: =IF(ISBLANK('Entrada de Modelos'!$B$40),0,(COLUMN(C8)-COLUMN($B$8))*'Entrada de Modelos'!$B$40) -> 0.02 | D8: =IF(ISBLANK('Entrada de Modelos'!$B$40),0,(COLUMN(D8)-COLUMN($B$8))*'Entrada de Modelos'!$B$40) -> 0.04 | E8: =IF(ISBLANK('Entrada de Modelos'!$B$40),0,(COLUMN(E8)-COLUMN($B$8))*'Entrada de Modelos'!$B$40) -> 0.06 | F8: =IF(ISBLANK('Entrada de Modelos'!$B$40),0,(COLUMN(F8)-COLUMN($B$8))*'Entrada de Modelos'!$B$40) -> 0.08
A11: RENDIMENTO
B12: Ano 1 | C12: Ano 2 | D12: Ano 3 | E12: Ano 4 | F12: Ano 5
A13: Receitas
A15: ='Entrada de Modelos'!A7 -> Produto 1 | B15: ='Entrada de Modelos'!D7 -> 31250 | C15: =B15*(1+$C$7) -> 31875 | D15: =C15*(1+$D$7) -> 33150 | E15: =D15*(1+$E$7) -> 35139 | F15: =E15*(1+$F$7) -> 37950.12
A16: ='Entrada de Modelos'!A8 -> Produto 2 | B16: ='Entrada de Modelos'!D8 -> 43000 | C16: =B16*(1+$C$7) -> 43860 | D16: =C16*(1+$D$7) -> 45614.4 | E16: =D16*(1+$E$7) -> 48351.264 | F16: =E16*(1+$F$7) -> 52219.365
A17: ='Entrada de Modelos'!A9 -> Produto 3 | B17: ='Entrada de Modelos'!D9 -> 13650 | C17: =B17*(1+$C$7) -> 13923 | D17: =C17*(1+$D$7) -> 14479.92 | E17: =D17*(1+$E$7) -> 15348.715 | F17: =E17*(1+$F$7) -> 16576.612
A18: ='Entrada de Modelos'!A10 -> Produto 4 | B18: ='Entrada de Modelos'!D10 -> 13500 | C18: =B18*(1+$C$7) -> 13770 | D18: =C18*(1+$D$7) -> 14320.8 | E18: =D18*(1+$E$7) -> 15180.048 | F18: =E18*(1+$F$7) -> 16394.452
A20: Vendas totais | B20: =SUM(B15:B18) -> 101400 | C20: =SUM(C15:C18) -> 103428 | D20: =SUM(D15:D18) -> 107565.12 | E20: =SUM(E15:E18) -> 114019.03 | F20: =SUM(F15:F18) -> 123140.55
A22: Custos de venda
A24: ='Entrada de Modelos'!A16 -> Produto 1 | B24: ='Entrada de Modelos'!D16 -> 9375 | C24: =B24*(1+$C$8) -> 9562.5 | D24: =C24*(1+$D$8) -> 9945 | E24: =D24*(1+$E$8) -> 10541.7 | F24: =E24*(1+$F$8) -> 11385.036
A25: ='Entrada de Modelos'!A17 -> Produto 2 | B25: ='Entrada de Modelos'!D17 -> 10750 | C25: =B25*(1+$C$8) -> 10965 | D25: =C25*(1+$D$8) -> 11403.6 | E25: =D25*(1+$E$8) -> 12087.816 | F25: =E25*(1+$F$8) -> 13054.841
A26: ='Entrada de Modelos'!A18 -> Produto 3 | B26: ='Entrada de Modelos'!D18 -> 3412.5 | C26: =B26*(1+$C$8) -> 3480.75 | D26: =C26*(1+$D$8) -> 3619.98 | E26: =D26*(1+$E$8) -> 3837.1788 | F26: =E26*(1+$F$8) -> 4144.1531
A27: ='Entrada de Modelos'!A19 -> Produto 4 | B27: ='Entrada de Modelos'!D19 -> 4050 | C27: =B27*(1+$C$8) -> 4131 | D27: =C27*(1+$D$8) -> 4296.24 | E27: =D27*(1+$E$8) -> 4554.0144 | F27: =E27*(1+$F$8) -> 4918.3356
A29: Custos de venda | B29: ='Entrada de Modelos'!D21 -> 27587.5 | C29: =B29*(1+$C$8) -> 28139.25 | D29: =C29*(1+$D$8) -> 29264.82 | E29: =D29*(1+$E$8) -> 31020.709 | F29: =E29*(1+$F$8) -> 33502.366
A31: Lucro bruto | B31: =B20-B29 -> 73812.5 | C31: =C20-C29 -> 75288.75 | D31: =D20-D29 -> 78300.3 | E31: =E20-E29 -> 82998.318 | F31: =F20-F29 -> 89638.183
A33: Rendimento não operacional
A35: Renda | B35: 0 | C35: 0 | D35: 0 | E35: 0 | F35: 0
A36: Rendimento de juros | B36: 0 | C36: 0 | D36: 0 | E36: 0 | F36: 0
A37: Perda (ganho) na venda de bens | B37: 0 | C37: 0 | D37: 1000 | E37: 0 | F37: 0
A38: Outros rendimentos (declarar) | B38: 0 | C38: 0 | D38: 0 | E38: 0 | F38: 0
A40: Rendimento Não Operacional da Toatal | B40: =SUM(B35:B38) -> 0 | C40: =SUM(C35:C38) -> 0 | D40: =SUM(D35:D38) -> 1000 | E40: =SUM(E35:E38) -> 0 | F40: =SUM(F35:F38) -> 0
A42: RENDIMENTO TOTAL | B42: =B31+B40 -> 73812.5 | C42: =C31+C40 -> 75288.75 | D42: =D31+D40 -> 79300.3 | E42: =E31+E40 -> 82998.318 | F42: =F31+F40 -> 89638.183
A44: DESPESAS
A46: Custos operacionais
A48: Vendas e Marketing | B48: 15000 | C48: =B48*(1+C$8) -> 15300 | D48: =C48*(1+D$8) -> 15912 | E48: =D48*(1+E$8) -> 16866.72 | F48: =E48*(1+F$8) -> 18216.058
A49: Depreciação | B49: =SUM(Orçamento!B20,Orçamento!B22,Orçamento!B23)/'Entrada de Modelos'!$B$30 -> 6000 | C49: =SUM(Orçamento!C20,Orçamento!C21,Orçamento!C22)/'Entrada de Modelos'!$B$30*(1+C$8) -> 6120 | D49: =SUM(Orçamento!D20,Orçamento!D21,Orçamento!D22)/'Entrada de Modelos'!$B$30*(1+D$8) -> 6240 | E49: =SUM(Orçamento!E20,Orçamento!E21,Orçamento!E22)/'Entrada de Modelos'!$B$30*(1+E$8) -> 6360 | F49: =SUM(Orçamento!F20,Orçamento!F21,Orçamento!F22)/'Entrada de Modelos'!$B$30*(1+F$8) -> 6480
A50: Seguros | B50: 7500 | C50: =B50*(1+C$8) -> 7650 | D50: =C50*(1+D$8) -> 7956 | E50: =D50*(1+E$8) -> 8433.36 | F50: =E50*(1+F$8) -> 9108.0288
A51: Salários e imposto sobre salários | B51: 21000 | C51: =B51*(1+C$8) -> 21420 | D51: =C51*(1+D$8) -> 22276.8 | E51: =D51*(1+E$8) -> 23613.408 | F51: =E51*(1+F$8) -> 25502.481
A52: Impostos sobre a propriedade | B52: 2500 | C52: =B52*(1+C$8) -> 2550 | D52: =C52*(1+D$8) -> 2652 | E52: =D52*(1+E$8) -> 2811.12 | F52: =E52*(1+F$8) -> 3036.0096
A53: Manutenção, reparação e revisão | B53: =Orçamento!B23*'Entrada de Modelos'!$B$25 -> 1500 | C53: =(Orçamento!C23*'Entrada de Modelos'!$B$25)*(1+C$8) -> 1530 | D53: =(Orçamento!D23*'Entrada de Modelos'!$B$25)*(1+D$8) -> 1560 | E53: =(Orçamento!E23*'Entrada de Modelos'!$B$25)*(1+E$8) -> 1590 | F53: =(Orçamento!F23*'Entrada de Modelos'!$B$25)*(1+F$8) -> 1620
A54: Serviços públicos | B54: 5000 | C54: =B54*(1+C$8) -> 5100 | D54: =C54*(1+D$8) -> 5304 | E54: =D54*(1+E$8) -> 5622.24 | F54: =E54*(1+F$8) -> 6072.0192
A55: Comissões de gestão | B55: 300 | C55: =B55*(1+C$8) -> 306 | D55: =C55*(1+D$8) -> 318.24 | E55: =D55*(1+E$8) -> 337.3344 | F55: =E55*(1+F$8) -> 364.32115
A56: Encargos de juros sobre dívida de longo prazo | B56: =SUM('Calculadora de Pagamentos PR'!E7:E18) -> 2243.4991 | C56: =SUM('Calculadora de Pagamentos PR'!E19:E30) -> 1791.0621 | D56: =SUM('Calculadora de Pagamentos PR'!E31:E42) -> 1316.0033 | E56: =SUM('Calculadora de Pagamentos PR'!E43:E54) -> 817.19149 | F56: =SUM('Calculadora de Pagamentos PR'!E55:E66) -> 293.43911
A57: Diversos | B57: 1000 | C57: =B57*(1+C$8) -> 1020 | D57: =C57*(1+D$8) -> 1060.8 | E57: =D57*(1+E$8) -> 1124.448 | F57: =E57*(1+F$8) -> 1214.4038
...

Sheet Orçamento
A1: PREVISÃO ORÇAMENTAL
A3: Nome da empresa
A5: ATIVO
A7: Ativos Correntes | B7: Equilíbrio inicial | C7: Ano 1 | D7: Ano 2 | E7: Ano 3 | F7: Ano 4 | G7: Ano 5
A9: Caixa e investimentos a curto prazo | B9: 50000 | C9: ='Fluxo de caixa'!B40 -> 155189.56 | D9: ='Fluxo de caixa'!C40 -> 110559.57 | E9: ='Fluxo de caixa'!D40 -> 141116.45 | F9: ='Fluxo de caixa'!E40 -> 197797.15 | G9: ='Fluxo de caixa'!F40 -> 130690.35
A10: Pedidos | B10: 3000 | C10: =B10 -> 3000 | D10: =C10 -> 3000 | E10: =D10 -> 3000 | F10: =E10 -> 3000 | G10: =F10 -> 3000
A11: Coleções totais | B11: 25000 | C11: =B11 -> 25000 | D11: =C11 -> 25000 | E11: =D11 -> 25000 | F11: =E11 -> 25000 | G11: =F11 -> 25000
A12: Taxas Pré-Pagas | B12: 0 | C12: =B12 -> 0 | D12: =C12 -> 0 | E12: =D12 -> 0 | F12: =E12 -> 0 | G12: =F12 -> 0
A13: Imposto sobre o rendimento diferido | B13: 0 | C13: =B13 -> 0 | D13: =C13 -> 0 | E13: =D13 -> 0 | F13: =E13 -> 0 | G13: =F13 -> 0
A14: Outros ativos de grande escala | B14: 5000 | C14: =+B14 -> 5000 | D14: =+C14 -> 5000 | E14: =+D14 -> 5000 | F14: =+E14 -> 5000 | G14: =+F14 -> 5000
A16: Ativos totais | B16: =SUM(B9:B14) -> 83000 | C16: =SUM(C9:C14) -> 188189.56 | D16: =SUM(D9:D14) -> 143559.57 | E16: =SUM(E9:E14) -> 174116.45 | F16: =SUM(F9:F14) -> 230797.15 | G16: =SUM(G9:G14) -> 163690.35
A18: Propriedades e equipamentos | B18: Equilíbrio inicial | C18: Ano 1 | D18: Ano 2 | E18: Ano 3 | F18: Ano 4 | G18: Ano 5
A20: Edifício | B20: 20000 | C20: =B20 -> 20000 | D20: =C20 -> 20000 | E20: =D20 -> 20000 | F20: =E20 -> 20000 | G20: =F20 -> 20000
A21: Terra | B21: 10000 | C21: =B21 -> 10000 | D21: =C21 -> 10000 | E21: =D21 -> 10000 | F21: =E21 -> 10000 | G21: =F21 -> 10000
A22: Melhorias de Capital | B22: 0 | C22: =B22 -> 0 | D22: =C22 -> 0 | E22: =D22 -> 0 | F22: =E22 -> 0 | G22: =F22 -> 0
A23: Maquinaria e equipamentos | B23: 10000 | C23: =B23 -> 10000 | D23: =C23 -> 10000 | E23: =D23 -> 10000 | F23: =E23 -> 10000 | G23: =F23 -> 10000
A24: Custos de depreciação mais baixos acumulados | C24: =B24+'Lucros e prejuízos'!B49 -> 6000 | D24: =C24+'Lucros e prejuízos'!C49 -> 12120 | E24: =D24+'Lucros e prejuízos'!D49 -> 18360 | F24: =E24+'Lucros e prejuízos'!E49 -> 24720 | G24: =F24+'Lucros e prejuízos'!F49 -> 31200
A26: Propriedade Total e Equipamento | B26: =SUM(B20:B23)-B24 -> 40000 | C26: =SUM(C20:C23)-C24 -> 34000 | D26: =SUM(D20:D23)-D24 -> 27880 | E26: =SUM(E20:E23)-E24 -> 21640 | F26: =SUM(F20:F23)-F24 -> 15280 | G26: =SUM(G20:G23)-G24 -> 8800
A28: Outros ativos | B28: Equilíbrio inicial | C28: Ano 1 | D28: Ano 2 | E28: Ano 3 | F28: Ano 4 | G28: Ano 5
A30: Boa vontade | B30: 0 | C30: =B30 -> 0 | D30: =C30 -> 0 | E30: =D30 -> 0 | F30: =E30 -> 0 | G30: =F30 -> 0
A31: Imposto sobre o rendimento diferido | B31: 0 | C31: =B31 -> 0 | D31: =C31 -> 0 | E31: =D31 -> 0 | F31: =E31 -> 0 | G31: =F31 -> 0
A32: Investimentos a longo prazo | B32: 0 | C32: =B32 -> 0 | D32: =C32 -> 0 | E32: =D32 -> 0 | F32: =E32 -> 0 | G32: =F32 -> 0
A33: Depósitos | B33: 0 | C33: =B33 -> 0 | D33: =C33 -> 0 | E33: =D33 -> 0 | F33: =E33 -> 0 | G33: =F33 -> 0
A34: Outros ativos não correntes | B34: 0 | C34: =B34 -> 0 | D34: =C34 -> 0 | E34: =D34 -> 0 | F34: =E34 -> 0 | G34: =F34 -> 0
A36: Outros ativos totais | B36: =SUM(B30:B34) -> 0 | C36: =SUM(C30:C34) -> 0 | D36: =SUM(D30:D34) -> 0 | E36: =SUM(E30:E34) -> 0 | F36: =SUM(F30:F34) -> 0 | G36: =SUM(G30:G34) -> 0
A38: ATIVOS TOTAIS | B38: =B16+B26+B36 -> 123000 | C38: =C16+C26+C36 -> 222189.56 | D38: =D16+D26+D36 -> 171439.57 | E38: =E16+E26+E36 -> 195756.45 | F38: =F16+F26+F36 -> 246077.15 | G38: =G16+G26+G36 -> 172490.35
A40: PASSIVOS
A42: Passivos correntes | B42: Equilíbrio inicial | C42: Ano 1 | D42: Ano 2 | E42: Ano 3 | F42: Ano 4 | G42: Ano 5
A44: Contas a pagar | B44: 2000 | C44: =B44 -> 2000 | D44: =C44 -> 2000 | E44: =D44 -> 2000 | F44: =E44 -> 2000 | G44: =F44 -> 2000
A45: Custos acumulados | B45: 0 | C45: =B45 -> 0 | D45: =C45 -> 0 | E45: =D45 -> 0 | F45: =E45 -> 0 | G45: =F45 -> 0
A46: Títulos de dívida/dívida de curto prazo | B46: 0 | C46: =B46 -> 0 | D46: =C46 -> 0 | E46: =D46 -> 0 | F46: =E46 -> 0 | G46: =F46 -> 0
A47: Contratos de arrendamento de capital | B47: 0 | C47: =B47 -> 0 | D47: =C47 -> 0 | E47: =D47 -> 0 | F47: =E47 -> 0 | G47: =F47 -> 0
A48: Outros passivos correntes | B48: 100 | C48: =+B48 -> 100 | D48: =+C48 -> 100 | E48: =+D48 -> 100 | F48: =+E48 -> 100 | G48: =+F48 -> 100
A50: Passivos correntes totais | B50: =SUM(B44:B48) -> 2100 | C50: =SUM(C44:C48) -> 2100 | D50: =SUM(D44:D48) -> 2100 | E50: =SUM(E44:E48) -> 2100 | F50: =SUM(F44:F48) -> 2100 | G50: =SUM(G44:G48) -> 2100
A52: Dívidas | B52: Equilíbrio inicial | C52: Ano 1 | D52: Ano 2 | E52: Ano 3 | F52: Ano 4 | G52: Ano 5
A54: Dívida/empréstimos de longo prazo | B54: =IF('Calculadora de Pagamentos PR'!B6="",0,'Calculadora de Pagamentos PR'!B6) -> 50000 | C54: =IF('Calculadora de Pagamentos PR'!B19="",0,'Calculadora de Pagamentos PR'!B19) -> 40951.26 | D54: =IF('Calculadora de Pagamentos PR'!B31="",0,'Calculadora de Pagamentos PR'!B31) -> 31450.083 | E54: =IF('Calculadora de Pagamentos PR'!B43="",0,'Calculadora de Pagamentos PR'!B43) -> 21473.847 | F54: =IF('Calculadora de Pagamentos PR'!B55="",0,'Calculadora de Pagamentos PR'!B55) -> 10998.8 | G54: =IF('Calculadora de Pagamentos PR'!B67="",0,'Calculadora de Pagamentos PR'!B67) -> 0
A55: Outras dívidas de longo prazo | B55: 100000 | C55: 200000 | D55: 150000 | E55: 175000 | F55: 225000 | G55: 150000
A57: Dívida total | B57: =B50+B54+B55 -> 152100 | C57: =C50+C54+C55 -> 243051.26 | D57: =D50+D54+D55 -> 183550.08 | E57: =E50+E54+E55 -> 198573.85 | F57: =F50+F54+F55 -> 238098.8 | G57: =G50+G54+G55 -> 152100
A59: Outros passivos | B59: Equilíbrio inicial | C59: Ano 1 | D59: Ano 2 | E59: Ano 3 | F59: Ano 4 | G59: Ano 5
A61: Outras responsabilidades (especificar) | B61: 0 | C61: =B61 -> 0 | D61: =C61 -> 0 | E61: =D61 -> 0 | F61: =E61 -> 0 | G61: =F61 -> 0
...

Sheet Fluxo de caixa
A1: PREVISÃO DE LIQUIDEZ
A3: Nome da empresa
A5: Atividades operacionais | B5: Ano 1 | C5: Ano 2 | D5: Ano 3 | E5: Ano 4 | F5: Ano 5 | G5: Total
A7: Lucro líquido | B7: ='Lucros e prejuízos'!B77 -> 8238.3006 | C7: ='Lucros e prejuízos'!C77 -> 8751.1815 | D7: ='Lucros e prejuízos'!D77 -> 10293.12 | E7: ='Lucros e prejuízos'!E77 -> 10795.747 | F7: ='Lucros e prejuízos'!F77 -> 12411.996 | G7: =SUM(B7:F7) -> 50490.346
A8: Depreciação | B8: ='Lucros e prejuízos'!B49 -> 6000 | C8: ='Lucros e prejuízos'!C49 -> 6120 | D8: ='Lucros e prejuízos'!D49 -> 6240 | E8: ='Lucros e prejuízos'!E49 -> 6360 | F8: ='Lucros e prejuízos'!F49 -> 6480 | G8: =SUM(B8:F8) -> 31200
A9: Exigências | B9: =Orçamento!B10-Orçamento!C10 -> 0 | C9: =Orçamento!C10-Orçamento!D10 -> 0 | D9: =Orçamento!D10-Orçamento!E10 -> 0 | E9: =Orçamento!E10-Orçamento!F10 -> 0 | F9: =Orçamento!F10-Orçamento!G10 -> 0 | G9: =SUM(B9:F9) -> 0
A10: Invent | B10: =Orçamento!B11-Orçamento!C11 -> 0 | C10: =Orçamento!C11-Orçamento!D11 -> 0 | D10: =Orçamento!D11-Orçamento!E11 -> 0 | E10: =Orçamento!E11-Orçamento!F11 -> 0 | F10: =Orçamento!F11-Orçamento!G11 -> 0 | G10: =SUM(B10:F10) -> 0
A11: Contas a pagar | B11: =Orçamento!B44-Orçamento!C44 -> 0 | C11: =Orçamento!C44-Orçamento!D44 -> 0 | D11: =Orçamento!D44-Orçamento!E44 -> 0 | E11: =Orçamento!E44-Orçamento!F44 -> 0 | F11: =Orçamento!F44-Orçamento!G44 -> 0 | G11: =SUM(B11:F11) -> 0
A12: Depreciação | B12: 0 | C12: =B12 -> 0 | D12: =C12 -> 0 | E12: =D12 -> 0 | F12: =E12 -> 0 | G12: =SUM(B12:F12) -> 0
A13: Outros passivos | B13: 0 | C13: =B13 -> 0 | D13: =C13 -> 0 | E13: =D13 -> 0 | F13: =E13 -> 0 | G13: =SUM(B13:F13) -> 0
A14: Outros Itens de Fluxo de Caixa Operacional | B14: 0 | C14: =B14 -> 0 | D14: =C14 -> 0 | E14: =D14 -> 0 | F14: =E14 -> 0 | G14: =SUM(B14:F14) -> 0
A15: Atividades operacionais globais | B15: =SUM(B7:B14) -> 14238.301 | C15: =SUM(C7:C14) -> 14871.182 | D15: =SUM(D7:D14) -> 16533.12 | E15: =SUM(E7:E14) -> 17155.747 | F15: =SUM(F7:F14) -> 18891.996 | G15: =SUM(B15:F15) -> 81690.346
A17: Atividades de investimento | B17: Ano 1 | C17: Ano 2 | D17: Ano 3 | E17: Ano 4 | F17: Ano 5 | G17: Total
A19: Despesa de capital | B19: =-1 * MAX(0,SUM(Orçamento!C20:C23)-SUM(Orçamento!B20:B23)) -> 0 | C19: =-1 * MAX(0,SUM(Orçamento!D20:D23)-SUM(Orçamento!C20:C23)) -> 0 | D19: =-1 * MAX(0,SUM(Orçamento!E20:E23)-SUM(Orçamento!D20:D23)) -> 0 | E19: =-1 * MAX(0,SUM(Orçamento!F20:F23)-SUM(Orçamento!E20:E23)) -> 0 | F19: =-1 * MAX(0,SUM(Orçamento!G20:G23)-SUM(Orçamento!F20:F23)) -> 0 | G19: =SUM(B19:F19) -> 0
A20: Aquisição da empresa | B20: 0 | C20: 0 | E20: 0 | F20: 0 | G20: =SUM(B20:F20) -> 0
A21: Venda de ativos fixos | B21: =(-1*MIN(0,SUM(Orçamento!C20:C23)-SUM(Orçamento!B20:B23))-'Lucros e prejuízos'!B37) -> 0 | C21: =(-1*MIN(0,SUM(Orçamento!D20:D23)-SUM(Orçamento!C20:C23))-'Lucros e prejuízos'!C37) -> 0 | D21: =(-1*MIN(0,SUM(Orçamento!E20:E23)-SUM(Orçamento!D20:D23))-'Lucros e prejuízos'!D37) -> -1000 | E21: =(-1*MIN(0,SUM(Orçamento!F20:F23)-SUM(Orçamento!E20:E23))-'Lucros e prejuízos'!E37) -> 0 | F21: =(-1*MIN(0,SUM(Orçamento!G20:G23)-SUM(Orçamento!F20:F23))-'Lucros e prejuízos'!F37) -> 0 | G21: =SUM(B21:F21) -> -1000
A22: Outros itens de fluxo de caixa das despesas de capital | B22: 0 | C22: 0 | D22: 0 | E22: 0 | F22: 0 | G22: =SUM(B22:F22) -> 0
A24: Investimento total | B24: =SUM(B19:B22) -> 0 | C24: =SUM(C19:C22) -> 0 | D24: =SUM(D19:D22) -> -1000 | E24: =SUM(E19:E22) -> 0 | F24: =SUM(F19:F22) -> 0 | G24: =SUM(B24:F24) -> -1000
A26: Atividades de financiamento | B26: Ano 1 | C26: Ano 2 | D26: Ano 3 | E26: Ano 4 | F26: Ano 5 | G26: Total
A28: Dívida/financiamento a longo prazo | B28: =SUM(Orçamento!C54:C55)-SUM(Orçamento!B54:B55) -> 90951.26 | C28: =SUM(Orçamento!D54:D55)-SUM(Orçamento!C54:C55) -> -59501.177 | D28: =SUM(Orçamento!E54:E55)-SUM(Orçamento!D54:D55) -> 15023.764 | E28: =SUM(Orçamento!F54:F55)-SUM(Orçamento!E54:E55) -> 39524.952 | F28: =SUM(Orçamento!G54:G55)-SUM(Orçamento!F54:F55) -> -85998.8 | G28: =SUM(B28:F28) -> 0
A29: Ações preferenciais | B29: 0 | C29: =B29 -> 0 | D29: =C29 -> 0 | E29: =D29 -> 0 | F29: =E29 -> 0 | G29: =SUM(B29:F29) -> 0
A30: Dividendos totais em dinheiro pagos | B30: 0 | C30: =B30 -> 0 | D30: =C30 -> 0 | E30: =D30 -> 0 | F30: =E30 -> 0 | G30: =SUM(B30:F30) -> 0
A31: Ações ordinárias | B31: 0 | C31: =B31 -> 0 | D31: =C31 -> 0 | E31: =D31 -> 0 | F31: =E31 -> 0 | G31: =SUM(B31:F31) -> 0
A32: Outros elementos do fluxo de caixa do empréstimo | B32: 0 | C32: =B32 -> 0 | D32: =C32 -> 0 | E32: =D32 -> 0 | F32: =E32 -> 0 | G32: 5
A34: Atividade total de financiamento | B34: =SUM(B28:B32) -> 90951.26 | C34: =SUM(C28:C32) -> -59501.177 | D34: =SUM(D28:D32) -> 15023.764 | E34: =SUM(E28:E32) -> 39524.952 | F34: =SUM(F28:F32) -> -85998.8 | G34: =SUM(B34:F34) -> 0
A36: Fluxo de Caixa Acumulado | B36: =B34+B24+B15 -> 105189.56 | C36: =C34+C24+C15 -> -44629.995 | D36: =D34+D24+D15 -> 30556.884 | E36: =E34+E24+E15 -> 56680.7 | F36: =F34+F24+F15 -> -67106.803 | G36: =SUM(B36:F36) -> 80690.346
A38: Saldo inicial em caixa | B38: =Orçamento!B9 -> 50000 | C38: =B40 -> 155189.56 | D38: =C40 -> 110559.57 | E38: =D40 -> 141116.45 | F38: =E40 -> 197797.15
A40: Endbarsaldo | B40: =B38+B36 -> 155189.56 | C40: =C38+C36 -> 110559.57 | D40: =D38+D36 -> 141116.45 | E40: =E38+E36 -> 197797.15 | F40: =F38+F36 -> 130690.35

Sheet Calculadora de Pagamentos PR
A1: CALENDÁRIO DE AMORTIZAÇÃO DE EMPRÉSTIMOS
A3: Nome da empresa
A5: MÊS | B5: EQUILÍBRIO | C5: PAGAMENTO PROGRAMADO | D5: DIRETOR DA ESCOLA | E5: JUROS
B6: ='Entrada de Modelos'!$B$50 -> 50000
A7: =IF(A6>='Entrada de Modelos'!$B$52,"",A6+1) -> 1 | B7: =IF(A7="","",B6-D6) -> 50000 | C7: =IF(A7="","",-PMT('Entrada de Modelos'!$B$53,'Entrada de Modelos'!$B$52,'Entrada de Modelos'!$B$50)) -> 941.01992 | D7: =IF(A7="","",C7-E7) -> 737.31373 | E7: =IF(A7="","",'Entrada de Modelos'!$B$53*B7) -> 203.70619
A8: =IF(A7>='Entrada de Modelos'!$B$52,"",A7+1) -> 2 | B8: =IF(A8="","",B7-D7) -> 49262.686 | C8: =IF(A8="","",-PMT('Entrada de Modelos'!$B$53,'Entrada de Modelos'!$B$52,'Entrada de Modelos'!$B$50)) -> 941.01992 | D8: =IF(A8="","",C8-E8) -> 740.31764 | E8: =IF(A8="","",'Entrada de Modelos'!$B$53*B8) -> 200.70228
A9: =IF(A8>='Entrada de Modelos'!$B$52,"",A8+1) -> 3 | B9: =IF(A9="","",B8-D8) -> 48522.369 | C9: =IF(A9="","",-PMT('Entrada de Modelos'!$B$53,'Entrada de Modelos'!$B$52,'Entrada de Modelos'!$B$50)) -> 941.01992 | D9: =IF(A9="","",C9-E9) -> 743.33378 | E9: =IF(A9="","",'Entrada de Modelos'!$B$53*B9) -> 197.68614
A10: =IF(A9>='Entrada de Modelos'!$B$52,"",A9+1) -> 4 | B10: =IF(A10="","",B9-D9) -> 47779.035 | C10: =IF(A10="","",-PMT('Entrada de Modelos'!$B$53,'Entrada de Modelos'!$B$52,'Entrada de Modelos'!$B$50)) -> 941.01992 | D10: =IF(A10="","",C10-E10) -> 746.36222 | E10: =IF(A10="","",'Entrada de Modelos'!$B$53*B10) -> 194.6577
A11: =IF(A10>='Entrada de Modelos'!$B$52,"",A10+1) -> 5 | B11: =IF(A11="","",B10-D10) -> 47032.673 | C11: =IF(A11="","",-PMT('Entrada de Modelos'!$B$53,'Entrada de Modelos'!$B$52,'Entrada de Modelos'!$B$50)) -> 941.01992 | D11: =IF(A11="","",C11-E11) -> 749.40299 | E11: =IF(A11="","",'Entrada de Modelos'!$B$53*B11) -> 191.61693
A12: =IF(A11>='Entrada de Modelos'!$B$52,"",A11+1) -> 6 | B12: =IF(A12="","",B11-D11) -> 46283.27 | C12: =IF(A12="","",-PMT('Entrada de Modelos'!$B$53,'Entrada de Modelos'!$B$52,'Entrada de Modelos'!$B$50)) -> 941.01992 | D12: =IF(A12="","",C12-E12) -> 752.45615 | E12: =IF(A12="","",'Entrada de Modelos'!$B$53*B12) -> 188.56377
A13: =IF(A12>='Entrada de Modelos'!$B$52,"",A12+1) -> 7 | B13: =IF(A13="","",B12-D12) -> 45530.813 | C13: =IF(A13="","",-PMT('Entrada de Modelos'!$B$53,'Entrada de Modelos'!$B$52,'Entrada de Modelos'!$B$50)) -> 941.01992 | D13: =IF(A13="","",C13-E13) -> 755.52175 | E13: =IF(A13="","",'Entrada de Modelos'!$B$53*B13) -> 185.49817
A14: =IF(A13>='Entrada de Modelos'!$B$52,"",A13+1) -> 8 | B14: =IF(A14="","",B13-D13) -> 44775.292 | C14: =IF(A14="","",-PMT('Entrada de Modelos'!$B$53,'Entrada de Modelos'!$B$52,'Entrada de Modelos'!$B$50)) -> 941.01992 | D14: =IF(A14="","",C14-E14) -> 758.59984 | E14: =IF(A14="","",'Entrada de Modelos'!$B$53*B14) -> 182.42008
A15: =IF(A14>='Entrada de Modelos'!$B$52,"",A14+1) -> 9 | B15: =IF(A15="","",B14-D14) -> 44016.692 | C15: =IF(A15="","",-PMT('Entrada de Modelos'!$B$53,'Entrada de Modelos'!$B$52,'Entrada de Modelos'!$B$50)) -> 941.01992 | D15: =IF(A15="","",C15-E15) -> 761.69047 | E15: =IF(A15="","",'Entrada de Modelos'!$B$53*B15) -> 179.32945
A16: =IF(A15>='Entrada de Modelos'!$B$52,"",A15+1) -> 10 | B16: =IF(A16="","",B15-D15) -> 43255.001 | C16: =IF(A16="","",-PMT('Entrada de Modelos'!$B$53,'Entrada de Modelos'!$B$52,'Entrada de Modelos'!$B$50)) -> 941.01992 | D16: =IF(A16="","",C16-E16) -> 764.79369 | E16: =IF(A16="","",'Entrada de Modelos'!$B$53*B16) -> 176.22623
A17: =IF(A16>='Entrada de Modelos'!$B$52,"",A16+1) -> 11 | B17: =IF(A17="","",B16-D16) -> 42490.208 | C17: =IF(A17="","",-PMT('Entrada de Modelos'!$B$53,'Entrada de Modelos'!$B$52,'Entrada de Modelos'!$B$50)) -> 941.01992 | D17: =IF(A17="","",C17-E17) -> 767.90955 | E17: =IF(A17="","",'Entrada de Modelos'!$B$53*B17) -> 173.11037
A18: =IF(A17>='Entrada de Modelos'!$B$52,"",A17+1) -> 12 | B18: =IF(A18="","",B17-D17) -> 41722.298 | C18: =IF(A18="","",-PMT('Entrada de Modelos'!$B$53,'Entrada de Modelos'!$B$52,'Entrada de Modelos'!$B$50)) -> 941.01992 | D18: =IF(A18="","",C18-E18) -> 771.03811 | E18: =IF(A18="","",'Entrada de Modelos'!$B$53*B18) -> 169.98181
... A366: =IF(A365>='Entrada de Modelos'!$B$52,"",A365+1) | B366: =IF(A366="","",B365-D365) | C366: =IF(A366="","",-PMT('Entrada de Modelos'!$B$53,'Entrada de Modelos'!$B$52,'Entrada de Modelos'!$B$50)) | D366: =IF(A366="","",C366-E366) | E366: =IF(A366="","",'Entrada de Modelos'!$B$53*B366)
