Workbook
Name Product_A_Name: [1]Summary!$C$3
Name Product_B_Name: [1]Summary!$D$3
Name ProjectType: Parameters[TIPO DE PROJETO]

Sheet PARÂMETROS DO PROJETO
A1: Create Project Parameters in this worksheet. Enter Company Name in cell at right. Helpful instructions are in cells in this column. | B1: Nome da empresa
A2: Title of this worksheet is in cell at right. | B2: Planeamento de projetos para escritórios de advogados
A3: Tip is in cell at right.
A4: Enter details in Parameters table starting in cell at right. Next instruction is in cell A12. | B4: TIPO DE PROJETO | C4: MEMBRO GERAL | D4: ADVOGADO EMPRESARIAL | E4: ADVOGADO DE DEFESA | F4: ADVOGADO DE PROPRIEDADE INTELECTUAL | G4: ADVOGADO DE FALÊNCIAS | H4: PESSOAL ADMINISTRATIVO | I4: TOTAL
B5: Constituição da Empresa | C5: 0.1 | D5: 0.4 | E5: 0 | F5: 0 | G5: 0 | H5: 0.5 | I5: =SUM(Parameters[[#This Row],[MEMBRO GERAL]:[PESSOAL ADMINISTRATIVO]]) -> 1
B6: Aquisição de Negócio | C6: 0.1 | D6: 0.4 | E6: 0 | F6: 0.1 | G6: 0 | H6: 0.4 | I6: =SUM(Parameters[[#This Row],[MEMBRO GERAL]:[PESSOAL ADMINISTRATIVO]]) -> 1
B7: Defesa de Responsabilidade por Produtos | C7: 0.2 | D7: 0 | E7: 0.5 | F7: 0 | G7: 0 | H7: 0.3 | I7: =SUM(Parameters[[#This Row],[MEMBRO GERAL]:[PESSOAL ADMINISTRATIVO]]) -> 1
B8: Pedido de patente | C8: 0.1 | D8: 0 | E8: 0 | F8: 0.6 | G8: 0 | H8: 0.3 | I8: =SUM(Parameters[[#This Row],[MEMBRO GERAL]:[PESSOAL ADMINISTRATIVO]]) -> 1
B9: Processo Judicial dos Empregados | C9: 0.2 | D9: 0.1 | E9: 0.4 | F9: 0 | G9: 0 | H9: 0.3 | I9: =SUM(Parameters[[#This Row],[MEMBRO GERAL]:[PESSOAL ADMINISTRATIVO]]) -> 1
B10: Falência | C10: 0.1 | D10: 0.2 | E10: 0 | F10: 0 | G10: 0.4 | H10: 0.3 | I10: =SUM(Parameters[[#This Row],[MEMBRO GERAL]:[PESSOAL ADMINISTRATIVO]]) -> 1
A11: Enter Blended Rates in cells at right, cells C12 through H12. Next instruction is in cell A14. | B11: Taxas mistas | C11: 350 | D11: 250 | E11: 300 | F11: 275 | G11: 225 | H11: 125
A13: Column chart showing comparison between Planned and Actual Cost is in cell at right, and column chart showing comparison between Planned and Actual Hours is in cell F14.
C14: MEMBRO GERAL | D14: EMPRESA | E14: ADVOGADO DE DEFESA | F14: OBJETO INTELECTUAL. | G14: FALÊNCIA | H14: PESSOAL ADMINISTRATIVO
B15: CUSTO PLANEADO | C15: =SUBTOTAL(109,Details[GENERAL PARTNER]) -> #N/A | D15: =SUBTOTAL(109,Details[BUSINESS LAWYER]) -> #N/A | E15: =SUBTOTAL(109,Details[DEFENSE LITIGATOR]) -> #N/A | F15: =SUBTOTAL(109,Details[INTELLECTUAL PROPERTY LAWYER]) -> #N/A | G15: =SUBTOTAL(109,Details[BANKRUPTCY LAWYER]) -> #N/A | H15: =SUBTOTAL(109,Details[ADMIN STAFF]) -> #N/A
B16: RENTÁVEL | C16: =SUBTOTAL(109,Details[GENERAL PARTNER 2]) -> #N/A | D16: =SUBTOTAL(109,Details[BUSINESS LAWYER 2]) -> #N/A | E16: =SUBTOTAL(109,Details[DEFENSE LITIGATOR 2]) -> #N/A | F16: =SUBTOTAL(109,Details[INTELLECTUAL PROPERTY LAWYER 2]) -> #N/A | G16: =SUBTOTAL(109,Details[BANKRUPTCY LAWYER 2]) -> #N/A | H16: =SUBTOTAL(109,Details[ADMIN STAFF 2]) -> #N/A
B17: HORÁRIOS AGENDADOS | C17: =C15/$C$11 -> #N/A | D17: =D15/$C$11 -> #N/A | E17: =E15/$C$11 -> #N/A | F17: =F15/$C$11 -> #N/A | G17: =G15/$C$11 -> #N/A | H17: =H15/$C$11 -> #N/A
B18: TEMPOS REAIS | C18: =C16/$C$11 -> #N/A | D18: =D16/$C$11 -> #N/A | E18: =E16/$C$11 -> #N/A | F18: =F16/$C$11 -> #N/A | G18: =G16/$C$11 -> #N/A | H18: =H16/$C$11 -> #N/A

Sheet DETALHES DO PROJETO
A1: Create Project Details in this worksheet. Company Name is auto updated in cell at right. Helpful instructions are in cells in this column. Arrow down to get started. | B1: Nome da empresa
A2: Title of this worksheet is in cell at right and Info tip in cell Y2 . | B2: Planeamento de projetos para escritórios de advogados
A3: Confidentiality message is in cell at right.
A4: Enter information in Details table starting in cell at right. Project Types in Details table at right are auto updated from Parameters table in Project Parameters worksheet. | B4: NOME DO PROJETO | C4: TIPO DE PROJETO | D4: INÍCIO ESPERADO | E4: CHEGADA DE STAMMATO | F4: INÍCIO REAL | G4: CHEGADA ATUAL | H4: TRABALHO ÁRDUO | I4: TRABALHO REAL | J4: DURAÇÃO DA STMATA | K4: DURAÇÃO EFETIVA | L4: GENERAL PARTNER | M4: BUSINESS LAWYER | N4: DEFENSE LITIGATOR | O4: INTELLECTUAL PROPERTY LAWYER | P4: BANKRUPTCY LAWYER | Q4: ADMIN STAFF | R4: GENERAL PARTNER 2 | S4: BUSINESS LAWYER 2 | T4: DEFENSE LITIGATOR 2 | U4: INTELLECTUAL PROPERTY LAWYER 2 | V4: BANKRUPTCY LAWYER 2 | W4: ADMIN STAFF 2
B5: Projeto 1 | C5: Constituição da Empresa | D5: =TODAY() -> 46037 | E5: =TODAY()+60 -> 46097 | F5: =TODAY()+10 -> 46047 | G5: =TODAY()+65 -> 46102 | H5: 200 | I5: 220 | J5: =DAYS360(Details[[#This Row],[INÍCIO ESPERADO]],Details[[#This Row],[CHEGADA DE STAMMATO]],FALSE) -> 61 | K5: =DAYS360(Details[[#This Row],[INÍCIO REAL]],Details[[#This Row],[CHEGADA ATUAL]],FALSE) -> 56 | L5: =INDEX(Parameters[],MATCH(Details[[#This Row],[TIPO DE PROJETO]],Parameters[TIPO DE PROJETO],0),MATCH(Details[[#Headers],[GENERAL PARTNER]],Parameters[#Headers],0))*INDEX('PARÂMETROS DO PROJETO'!$B$11:$H$11,1,MATCH(Details[[#Headers],[GENERAL PARTNER]],Parameters[#Headers],0))*Details[[#This Row],[TRABALHO ÁRDUO]] -> #N/A | M5: =INDEX(Parameters[],MATCH(Details[[#This Row],[TIPO DE PROJETO]],Parameters[TIPO DE PROJETO],0),MATCH(Details[[#Headers],[BUSINESS LAWYER]],Parameters[#Headers],0))*INDEX('PARÂMETROS DO PROJETO'!$B$11:$H$11,1,MATCH(Details[[#Headers],[BUSINESS LAWYER]],Parameters[#Headers],0))*Details[[#This Row],[TRABALHO ÁRDUO]] -> #N/A | N5: =INDEX(Parameters[],MATCH(Details[[#This Row],[TIPO DE PROJETO]],Parameters[TIPO DE PROJETO],0),MATCH(Details[[#Headers],[DEFENSE LITIGATOR]],Parameters[#Headers],0))*INDEX('PARÂMETROS DO PROJETO'!$B$11:$H$11,1,MATCH(Details[[#Headers],[DEFENSE LITIGATOR]],Parameters[#Headers],0))*Details[[#This Row],[TRABALHO ÁRDUO]] -> #N/A | O5: =INDEX(Parameters[],MATCH(Details[[#This Row],[TIPO DE PROJETO]],Parameters[TIPO DE PROJETO],0),MATCH(Details[[#Headers],[INTELLECTUAL PROPERTY LAWYER]],Parameters[#Headers],0))*INDEX('PARÂMETROS DO PROJETO'!$B$11:$H$11,1,MATCH(Details[[#Headers],[INTELLECTUAL PROPERTY LAWYER]],Parameters[#Headers],0))*Details[[#This Row],[TRABALHO ÁRDUO]] -> #N/A | P5: =INDEX(Parameters[],MATCH(Details[[#This Row],[TIPO DE PROJETO]],Parameters[TIPO DE PROJETO],0),MATCH(Details[[#Headers],[BANKRUPTCY LAWYER]],Parameters[#Headers],0))*INDEX('PARÂMETROS DO PROJETO'!$B$11:$H$11,1,MATCH(Details[[#Headers],[BANKRUPTCY LAWYER]],Parameters[#Headers],0))*Details[[#This Row],[TRABALHO ÁRDUO]] -> #N/A | Q5: =INDEX(Parameters[],MATCH(Details[[#This Row],[TIPO DE PROJETO]],Parameters[TIPO DE PROJETO],0),MATCH(Details[[#Headers],[ADMIN STAFF]],Parameters[#Headers],0))*INDEX('PARÂMETROS DO PROJETO'!$B$11:$H$11,1,MATCH(Details[[#Headers],[ADMIN STAFF]],Parameters[#Headers],0))*Details[[#This Row],[TRABALHO ÁRDUO]] -> #N/A | R5: =INDEX(Parameters[],MATCH(Details[[#This Row],[TIPO DE PROJETO]],Parameters[TIPO DE PROJETO],0),MATCH(Details[[#Headers],[GENERAL PARTNER]],Parameters[#Headers],0))*INDEX('PARÂMETROS DO PROJETO'!$B$11:$H$11,1,MATCH(Details[[#Headers],[GENERAL PARTNER]],Parameters[#Headers],0))*Details[[#This Row],[TRABALHO REAL]] -> #N/A | S5: =INDEX(Parameters[],MATCH(Details[[#This Row],[TIPO DE PROJETO]],Parameters[TIPO DE PROJETO],0),MATCH(Details[[#Headers],[BUSINESS LAWYER]],Parameters[#Headers],0))*INDEX('PARÂMETROS DO PROJETO'!$B$11:$H$11,1,MATCH(Details[[#Headers],[BUSINESS LAWYER]],Parameters[#Headers],0))*Details[[#This Row],[TRABALHO REAL]] -> #N/A | T5: =INDEX(Parameters[],MATCH(Details[[#This Row],[TIPO DE PROJETO]],Parameters[TIPO DE PROJETO],0),MATCH(Details[[#Headers],[DEFENSE LITIGATOR]],Parameters[#Headers],0))*INDEX('PARÂMETROS DO PROJETO'!$B$11:$H$11,1,MATCH(Details[[#Headers],[DEFENSE LITIGATOR]],Parameters[#Headers],0))*Details[[#This Row],[TRABALHO REAL]] -> #N/A | U5: =INDEX(Parameters[],MATCH(Details[[#This Row],[TIPO DE PROJETO]],Parameters[TIPO DE PROJETO],0),MATCH(Details[[#Headers],[INTELLECTUAL PROPERTY LAWYER]],Parameters[#Headers],0))*INDEX('PARÂMETROS DO PROJETO'!$B$11:$H$11,1,MATCH(Details[[#Headers],[INTELLECTUAL PROPERTY LAWYER]],Parameters[#Headers],0))*Details[[#This Row],[TRABALHO REAL]] -> #N/A | V5: =INDEX(Parameters[],MATCH(Details[[#This Row],[TIPO DE PROJETO]],Parameters[TIPO DE PROJETO],0),MATCH(Details[[#Headers],[BANKRUPTCY LAWYER]],Parameters[#Headers],0))*INDEX('PARÂMETROS DO PROJETO'!$B$11:$H$11,1,MATCH(Details[[#Headers],[BANKRUPTCY LAWYER]],Parameters[#Headers],0))*Details[[#This Row],[TRABALHO REAL]] -> #N/A | W5: =INDEX(Parameters[],MATCH(Details[[#This Row],[TIPO DE PROJETO]],Parameters[TIPO DE PROJETO],0),MATCH(Details[[#Headers],[ADMIN STAFF]],Parameters[#Headers],0))*INDEX('PARÂMETROS DO PROJETO'!$B$11:$H$11,1,MATCH(Details[[#Headers],[ADMIN STAFF]],Parameters[#Headers],0))*Details[[#This Row],[TRABALHO REAL]] -> #N/A
B6: Projeto 2 | C6: Aquisição de Negócio | D6: =TODAY()+30 -> 46067 | E6: =TODAY()+100 -> 46137 | F6: =TODAY()+40 -> 46077 | G6: =TODAY()+110 -> 46147 | H6: 400 | I6: 390 | J6: =DAYS360(Details[[#This Row],[INÍCIO ESPERADO]],Details[[#This Row],[CHEGADA DE STAMMATO]],FALSE) -> 71 | K6: =DAYS360(Details[[#This Row],[INÍCIO REAL]],Details[[#This Row],[CHEGADA ATUAL]],FALSE) -> 71 | L6: =INDEX(Parameters[],MATCH(Details[[#This Row],[TIPO DE PROJETO]],Parameters[TIPO DE PROJETO],0),MATCH(Details[[#Headers],[GENERAL PARTNER]],Parameters[#Headers],0))*INDEX('PARÂMETROS DO PROJETO'!$B$11:$H$11,1,MATCH(Details[[#Headers],[GENERAL PARTNER]],Parameters[#Headers],0))*Details[[#This Row],[TRABALHO ÁRDUO]] -> #N/A | M6: =INDEX(Parameters[],MATCH(Details[[#This Row],[TIPO DE PROJETO]],Parameters[TIPO DE PROJETO],0),MATCH(Details[[#Headers],[BUSINESS LAWYER]],Parameters[#Headers],0))*INDEX('PARÂMETROS DO PROJETO'!$B$11:$H$11,1,MATCH(Details[[#Headers],[BUSINESS LAWYER]],Parameters[#Headers],0))*Details[[#This Row],[TRABALHO ÁRDUO]] -> #N/A | N6: =INDEX(Parameters[],MATCH(Details[[#This Row],[TIPO DE PROJETO]],Parameters[TIPO DE PROJETO],0),MATCH(Details[[#Headers],[DEFENSE LITIGATOR]],Parameters[#Headers],0))*INDEX('PARÂMETROS DO PROJETO'!$B$11:$H$11,1,MATCH(Details[[#Headers],[DEFENSE LITIGATOR]],Parameters[#Headers],0))*Details[[#This Row],[TRABALHO ÁRDUO]] -> #N/A | O6: =INDEX(Parameters[],MATCH(Details[[#This Row],[TIPO DE PROJETO]],Parameters[TIPO DE PROJETO],0),MATCH(Details[[#Headers],[INTELLECTUAL PROPERTY LAWYER]],Parameters[#Headers],0))*INDEX('PARÂMETROS DO PROJETO'!$B$11:$H$11,1,MATCH(Details[[#Headers],[INTELLECTUAL PROPERTY LAWYER]],Parameters[#Headers],0))*Details[[#This Row],[TRABALHO ÁRDUO]] -> #N/A | P6: =INDEX(Parameters[],MATCH(Details[[#This Row],[TIPO DE PROJETO]],Parameters[TIPO DE PROJETO],0),MATCH(Details[[#Headers],[BANKRUPTCY LAWYER]],Parameters[#Headers],0))*INDEX('PARÂMETROS DO PROJETO'!$B$11:$H$11,1,MATCH(Details[[#Headers],[BANKRUPTCY LAWYER]],Parameters[#Headers],0))*Details[[#This Row],[TRABALHO ÁRDUO]] -> #N/A | Q6: =INDEX(Parameters[],MATCH(Details[[#This Row],[TIPO DE PROJETO]],Parameters[TIPO DE PROJETO],0),MATCH(Details[[#Headers],[ADMIN STAFF]],Parameters[#Headers],0))*INDEX('PARÂMETROS DO PROJETO'!$B$11:$H$11,1,MATCH(Details[[#Headers],[ADMIN STAFF]],Parameters[#Headers],0))*Details[[#This Row],[TRABALHO ÁRDUO]] -> #N/A | R6: =INDEX(Parameters[],MATCH(Details[[#This Row],[TIPO DE PROJETO]],Parameters[TIPO DE PROJETO],0),MATCH(Details[[#Headers],[GENERAL PARTNER]],Parameters[#Headers],0))*INDEX('PARÂMETROS DO PROJETO'!$B$11:$H$11,1,MATCH(Details[[#Headers],[GENERAL PARTNER]],Parameters[#Headers],0))*Details[[#This Row],[TRABALHO REAL]] -> #N/A | S6: =INDEX(Parameters[],MATCH(Details[[#This Row],[TIPO DE PROJETO]],Parameters[TIPO DE PROJETO],0),MATCH(Details[[#Headers],[BUSINESS LAWYER]],Parameters[#Headers],0))*INDEX('PARÂMETROS DO PROJETO'!$B$11:$H$11,1,MATCH(Details[[#Headers],[BUSINESS LAWYER]],Parameters[#Headers],0))*Details[[#This Row],[TRABALHO REAL]] -> #N/A | T6: =INDEX(Parameters[],MATCH(Details[[#This Row],[TIPO DE PROJETO]],Parameters[TIPO DE PROJETO],0),MATCH(Details[[#Headers],[DEFENSE LITIGATOR]],Parameters[#Headers],0))*INDEX('PARÂMETROS DO PROJETO'!$B$11:$H$11,1,MATCH(Details[[#Headers],[DEFENSE LITIGATOR]],Parameters[#Headers],0))*Details[[#This Row],[TRABALHO REAL]] -> #N/A | U6: =INDEX(Parameters[],MATCH(Details[[#This Row],[TIPO DE PROJETO]],Parameters[TIPO DE PROJETO],0),MATCH(Details[[#Headers],[INTELLECTUAL PROPERTY LAWYER]],Parameters[#Headers],0))*INDEX('PARÂMETROS DO PROJETO'!$B$11:$H$11,1,MATCH(Details[[#Headers],[INTELLECTUAL PROPERTY LAWYER]],Parameters[#Headers],0))*Details[[#This Row],[TRABALHO REAL]] -> #N/A | V6: =INDEX(Parameters[],MATCH(Details[[#This Row],[TIPO DE PROJETO]],Parameters[TIPO DE PROJETO],0),MATCH(Details[[#Headers],[BANKRUPTCY LAWYER]],Parameters[#Headers],0))*INDEX('PARÂMETROS DO PROJETO'!$B$11:$H$11,1,MATCH(Details[[#Headers],[BANKRUPTCY LAWYER]],Parameters[#Headers],0))*Details[[#This Row],[TRABALHO REAL]] -> #N/A | W6: =INDEX(Parameters[],MATCH(Details[[#This Row],[TIPO DE PROJETO]],Parameters[TIPO DE PROJETO],0),MATCH(Details[[#Headers],[ADMIN STAFF]],Parameters[#Headers],0))*INDEX('PARÂMETROS DO PROJETO'!$B$11:$H$11,1,MATCH(Details[[#Headers],[ADMIN STAFF]],Parameters[#Headers],0))*Details[[#This Row],[TRABALHO REAL]] -> #N/A
B7: Projeto 3 | C7: Defesa de Responsabilidade por Produtos | D7: =TODAY()+150 -> 46187 | E7: =TODAY()+150 -> 46187 | F7: =TODAY()+150 -> 46187 | G7: =TODAY()+170 -> 46207 | H7: 500 | I7: 500 | J7: =DAYS360(Details[[#This Row],[INÍCIO ESPERADO]],Details[[#This Row],[CHEGADA DE STAMMATO]],FALSE) -> 0 | K7: =DAYS360(Details[[#This Row],[INÍCIO REAL]],Details[[#This Row],[CHEGADA ATUAL]],FALSE) -> 20 | L7: =INDEX(Parameters[],MATCH(Details[[#This Row],[TIPO DE PROJETO]],Parameters[TIPO DE PROJETO],0),MATCH(Details[[#Headers],[GENERAL PARTNER]],Parameters[#Headers],0))*INDEX('PARÂMETROS DO PROJETO'!$B$11:$H$11,1,MATCH(Details[[#Headers],[GENERAL PARTNER]],Parameters[#Headers],0))*Details[[#This Row],[TRABALHO ÁRDUO]] -> #N/A | M7: =INDEX(Parameters[],MATCH(Details[[#This Row],[TIPO DE PROJETO]],Parameters[TIPO DE PROJETO],0),MATCH(Details[[#Headers],[BUSINESS LAWYER]],Parameters[#Headers],0))*INDEX('PARÂMETROS DO PROJETO'!$B$11:$H$11,1,MATCH(Details[[#Headers],[BUSINESS LAWYER]],Parameters[#Headers],0))*Details[[#This Row],[TRABALHO ÁRDUO]] -> #N/A | N7: =INDEX(Parameters[],MATCH(Details[[#This Row],[TIPO DE PROJETO]],Parameters[TIPO DE PROJETO],0),MATCH(Details[[#Headers],[DEFENSE LITIGATOR]],Parameters[#Headers],0))*INDEX('PARÂMETROS DO PROJETO'!$B$11:$H$11,1,MATCH(Details[[#Headers],[DEFENSE LITIGATOR]],Parameters[#Headers],0))*Details[[#This Row],[TRABALHO ÁRDUO]] -> #N/A | O7: =INDEX(Parameters[],MATCH(Details[[#This Row],[TIPO DE PROJETO]],Parameters[TIPO DE PROJETO],0),MATCH(Details[[#Headers],[INTELLECTUAL PROPERTY LAWYER]],Parameters[#Headers],0))*INDEX('PARÂMETROS DO PROJETO'!$B$11:$H$11,1,MATCH(Details[[#Headers],[INTELLECTUAL PROPERTY LAWYER]],Parameters[#Headers],0))*Details[[#This Row],[TRABALHO ÁRDUO]] -> #N/A | P7: =INDEX(Parameters[],MATCH(Details[[#This Row],[TIPO DE PROJETO]],Parameters[TIPO DE PROJETO],0),MATCH(Details[[#Headers],[BANKRUPTCY LAWYER]],Parameters[#Headers],0))*INDEX('PARÂMETROS DO PROJETO'!$B$11:$H$11,1,MATCH(Details[[#Headers],[BANKRUPTCY LAWYER]],Parameters[#Headers],0))*Details[[#This Row],[TRABALHO ÁRDUO]] -> #N/A | Q7: =INDEX(Parameters[],MATCH(Details[[#This Row],[TIPO DE PROJETO]],Parameters[TIPO DE PROJETO],0),MATCH(Details[[#Headers],[ADMIN STAFF]],Parameters[#Headers],0))*INDEX('PARÂMETROS DO PROJETO'!$B$11:$H$11,1,MATCH(Details[[#Headers],[ADMIN STAFF]],Parameters[#Headers],0))*Details[[#This Row],[TRABALHO ÁRDUO]] -> #N/A | R7: =INDEX(Parameters[],MATCH(Details[[#This Row],[TIPO DE PROJETO]],Parameters[TIPO DE PROJETO],0),MATCH(Details[[#Headers],[GENERAL PARTNER]],Parameters[#Headers],0))*INDEX('PARÂMETROS DO PROJETO'!$B$11:$H$11,1,MATCH(Details[[#Headers],[GENERAL PARTNER]],Parameters[#Headers],0))*Details[[#This Row],[TRABALHO REAL]] -> #N/A | S7: =INDEX(Parameters[],MATCH(Details[[#This Row],[TIPO DE PROJETO]],Parameters[TIPO DE PROJETO],0),MATCH(Details[[#Headers],[BUSINESS LAWYER]],Parameters[#Headers],0))*INDEX('PARÂMETROS DO PROJETO'!$B$11:$H$11,1,MATCH(Details[[#Headers],[BUSINESS LAWYER]],Parameters[#Headers],0))*Details[[#This Row],[TRABALHO REAL]] -> #N/A | T7: =INDEX(Parameters[],MATCH(Details[[#This Row],[TIPO DE PROJETO]],Parameters[TIPO DE PROJETO],0),MATCH(Details[[#Headers],[DEFENSE LITIGATOR]],Parameters[#Headers],0))*INDEX('PARÂMETROS DO PROJETO'!$B$11:$H$11,1,MATCH(Details[[#Headers],[DEFENSE LITIGATOR]],Parameters[#Headers],0))*Details[[#This Row],[TRABALHO REAL]] -> #N/A | U7: =INDEX(Parameters[],MATCH(Details[[#This Row],[TIPO DE PROJETO]],Parameters[TIPO DE PROJETO],0),MATCH(Details[[#Headers],[INTELLECTUAL PROPERTY LAWYER]],Parameters[#Headers],0))*INDEX('PARÂMETROS DO PROJETO'!$B$11:$H$11,1,MATCH(Details[[#Headers],[INTELLECTUAL PROPERTY LAWYER]],Parameters[#Headers],0))*Details[[#This Row],[TRABALHO REAL]] -> #N/A | V7: =INDEX(Parameters[],MATCH(Details[[#This Row],[TIPO DE PROJETO]],Parameters[TIPO DE PROJETO],0),MATCH(Details[[#Headers],[BANKRUPTCY LAWYER]],Parameters[#Headers],0))*INDEX('PARÂMETROS DO PROJETO'!$B$11:$H$11,1,MATCH(Details[[#Headers],[BANKRUPTCY LAWYER]],Parameters[#Headers],0))*Details[[#This Row],[TRABALHO REAL]] -> #N/A | W7: =INDEX(Parameters[],MATCH(Details[[#This Row],[TIPO DE PROJETO]],Parameters[TIPO DE PROJETO],0),MATCH(Details[[#Headers],[ADMIN STAFF]],Parameters[#Headers],0))*INDEX('PARÂMETROS DO PROJETO'!$B$11:$H$11,1,MATCH(Details[[#Headers],[ADMIN STAFF]],Parameters[#Headers],0))*Details[[#This Row],[TRABALHO REAL]] -> #N/A
B8: Projeto 4 | C8: Pedido de patente | D8: =TODAY()+200 -> 46237 | E8: =TODAY()+230 -> 46267 | F8: =TODAY()+230 -> 46267 | G8: =TODAY()+230 -> 46267 | H8: 150 | I8: 145 | J8: =DAYS360(Details[[#This Row],[INÍCIO ESPERADO]],Details[[#This Row],[CHEGADA DE STAMMATO]],FALSE) -> 29 | K8: =DAYS360(Details[[#This Row],[INÍCIO REAL]],Details[[#This Row],[CHEGADA ATUAL]],FALSE) -> 0 | L8: =INDEX(Parameters[],MATCH(Details[[#This Row],[TIPO DE PROJETO]],Parameters[TIPO DE PROJETO],0),MATCH(Details[[#Headers],[GENERAL PARTNER]],Parameters[#Headers],0))*INDEX('PARÂMETROS DO PROJETO'!$B$11:$H$11,1,MATCH(Details[[#Headers],[GENERAL PARTNER]],Parameters[#Headers],0))*Details[[#This Row],[TRABALHO ÁRDUO]] -> #N/A | M8: =INDEX(Parameters[],MATCH(Details[[#This Row],[TIPO DE PROJETO]],Parameters[TIPO DE PROJETO],0),MATCH(Details[[#Headers],[BUSINESS LAWYER]],Parameters[#Headers],0))*INDEX('PARÂMETROS DO PROJETO'!$B$11:$H$11,1,MATCH(Details[[#Headers],[BUSINESS LAWYER]],Parameters[#Headers],0))*Details[[#This Row],[TRABALHO ÁRDUO]] -> #N/A | N8: =INDEX(Parameters[],MATCH(Details[[#This Row],[TIPO DE PROJETO]],Parameters[TIPO DE PROJETO],0),MATCH(Details[[#Headers],[DEFENSE LITIGATOR]],Parameters[#Headers],0))*INDEX('PARÂMETROS DO PROJETO'!$B$11:$H$11,1,MATCH(Details[[#Headers],[DEFENSE LITIGATOR]],Parameters[#Headers],0))*Details[[#This Row],[TRABALHO ÁRDUO]] -> #N/A | O8: =INDEX(Parameters[],MATCH(Details[[#This Row],[TIPO DE PROJETO]],Parameters[TIPO DE PROJETO],0),MATCH(Details[[#Headers],[INTELLECTUAL PROPERTY LAWYER]],Parameters[#Headers],0))*INDEX('PARÂMETROS DO PROJETO'!$B$11:$H$11,1,MATCH(Details[[#Headers],[INTELLECTUAL PROPERTY LAWYER]],Parameters[#Headers],0))*Details[[#This Row],[TRABALHO ÁRDUO]] -> #N/A | P8: =INDEX(Parameters[],MATCH(Details[[#This Row],[TIPO DE PROJETO]],Parameters[TIPO DE PROJETO],0),MATCH(Details[[#Headers],[BANKRUPTCY LAWYER]],Parameters[#Headers],0))*INDEX('PARÂMETROS DO PROJETO'!$B$11:$H$11,1,MATCH(Details[[#Headers],[BANKRUPTCY LAWYER]],Parameters[#Headers],0))*Details[[#This Row],[TRABALHO ÁRDUO]] -> #N/A | Q8: =INDEX(Parameters[],MATCH(Details[[#This Row],[TIPO DE PROJETO]],Parameters[TIPO DE PROJETO],0),MATCH(Details[[#Headers],[ADMIN STAFF]],Parameters[#Headers],0))*INDEX('PARÂMETROS DO PROJETO'!$B$11:$H$11,1,MATCH(Details[[#Headers],[ADMIN STAFF]],Parameters[#Headers],0))*Details[[#This Row],[TRABALHO ÁRDUO]] -> #N/A | R8: =INDEX(Parameters[],MATCH(Details[[#This Row],[TIPO DE PROJETO]],Parameters[TIPO DE PROJETO],0),MATCH(Details[[#Headers],[GENERAL PARTNER]],Parameters[#Headers],0))*INDEX('PARÂMETROS DO PROJETO'!$B$11:$H$11,1,MATCH(Details[[#Headers],[GENERAL PARTNER]],Parameters[#Headers],0))*Details[[#This Row],[TRABALHO REAL]] -> #N/A | S8: =INDEX(Parameters[],MATCH(Details[[#This Row],[TIPO DE PROJETO]],Parameters[TIPO DE PROJETO],0),MATCH(Details[[#Headers],[BUSINESS LAWYER]],Parameters[#Headers],0))*INDEX('PARÂMETROS DO PROJETO'!$B$11:$H$11,1,MATCH(Details[[#Headers],[BUSINESS LAWYER]],Parameters[#Headers],0))*Details[[#This Row],[TRABALHO REAL]] -> #N/A | T8: =INDEX(Parameters[],MATCH(Details[[#This Row],[TIPO DE PROJETO]],Parameters[TIPO DE PROJETO],0),MATCH(Details[[#Headers],[DEFENSE LITIGATOR]],Parameters[#Headers],0))*INDEX('PARÂMETROS DO PROJETO'!$B$11:$H$11,1,MATCH(Details[[#Headers],[DEFENSE LITIGATOR]],Parameters[#Headers],0))*Details[[#This Row],[TRABALHO REAL]] -> #N/A | U8: =INDEX(Parameters[],MATCH(Details[[#This Row],[TIPO DE PROJETO]],Parameters[TIPO DE PROJETO],0),MATCH(Details[[#Headers],[INTELLECTUAL PROPERTY LAWYER]],Parameters[#Headers],0))*INDEX('PARÂMETROS DO PROJETO'!$B$11:$H$11,1,MATCH(Details[[#Headers],[INTELLECTUAL PROPERTY LAWYER]],Parameters[#Headers],0))*Details[[#This Row],[TRABALHO REAL]] -> #N/A | V8: =INDEX(Parameters[],MATCH(Details[[#This Row],[TIPO DE PROJETO]],Parameters[TIPO DE PROJETO],0),MATCH(Details[[#Headers],[BANKRUPTCY LAWYER]],Parameters[#Headers],0))*INDEX('PARÂMETROS DO PROJETO'!$B$11:$H$11,1,MATCH(Details[[#Headers],[BANKRUPTCY LAWYER]],Parameters[#Headers],0))*Details[[#This Row],[TRABALHO REAL]] -> #N/A | W8: =INDEX(Parameters[],MATCH(Details[[#This Row],[TIPO DE PROJETO]],Parameters[TIPO DE PROJETO],0),MATCH(Details[[#Headers],[ADMIN STAFF]],Parameters[#Headers],0))*INDEX('PARÂMETROS DO PROJETO'!$B$11:$H$11,1,MATCH(Details[[#Headers],[ADMIN STAFF]],Parameters[#Headers],0))*Details[[#This Row],[TRABALHO REAL]] -> #N/A
B9: Projeto 5 | C9: Processo Judicial dos Empregados | D9: =TODAY()+220 -> 46257 | E9: =TODAY()+250 -> 46287 | F9: =TODAY()+230 -> 46267 | G9: =TODAY()+259 -> 46296 | H9: 250 | I9: 255 | J9: =DAYS360(Details[[#This Row],[INÍCIO ESPERADO]],Details[[#This Row],[CHEGADA DE STAMMATO]],FALSE) -> 29 | K9: =DAYS360(Details[[#This Row],[INÍCIO REAL]],Details[[#This Row],[CHEGADA ATUAL]],FALSE) -> 29 | L9: =INDEX(Parameters[],MATCH(Details[[#This Row],[TIPO DE PROJETO]],Parameters[TIPO DE PROJETO],0),MATCH(Details[[#Headers],[GENERAL PARTNER]],Parameters[#Headers],0))*INDEX('PARÂMETROS DO PROJETO'!$B$11:$H$11,1,MATCH(Details[[#Headers],[GENERAL PARTNER]],Parameters[#Headers],0))*Details[[#This Row],[TRABALHO ÁRDUO]] -> #N/A | M9: =INDEX(Parameters[],MATCH(Details[[#This Row],[TIPO DE PROJETO]],Parameters[TIPO DE PROJETO],0),MATCH(Details[[#Headers],[BUSINESS LAWYER]],Parameters[#Headers],0))*INDEX('PARÂMETROS DO PROJETO'!$B$11:$H$11,1,MATCH(Details[[#Headers],[BUSINESS LAWYER]],Parameters[#Headers],0))*Details[[#This Row],[TRABALHO ÁRDUO]] -> #N/A | N9: =INDEX(Parameters[],MATCH(Details[[#This Row],[TIPO DE PROJETO]],Parameters[TIPO DE PROJETO],0),MATCH(Details[[#Headers],[DEFENSE LITIGATOR]],Parameters[#Headers],0))*INDEX('PARÂMETROS DO PROJETO'!$B$11:$H$11,1,MATCH(Details[[#Headers],[DEFENSE LITIGATOR]],Parameters[#Headers],0))*Details[[#This Row],[TRABALHO ÁRDUO]] -> #N/A | O9: =INDEX(Parameters[],MATCH(Details[[#This Row],[TIPO DE PROJETO]],Parameters[TIPO DE PROJETO],0),MATCH(Details[[#Headers],[INTELLECTUAL PROPERTY LAWYER]],Parameters[#Headers],0))*INDEX('PARÂMETROS DO PROJETO'!$B$11:$H$11,1,MATCH(Details[[#Headers],[INTELLECTUAL PROPERTY LAWYER]],Parameters[#Headers],0))*Details[[#This Row],[TRABALHO ÁRDUO]] -> #N/A | P9: =INDEX(Parameters[],MATCH(Details[[#This Row],[TIPO DE PROJETO]],Parameters[TIPO DE PROJETO],0),MATCH(Details[[#Headers],[BANKRUPTCY LAWYER]],Parameters[#Headers],0))*INDEX('PARÂMETROS DO PROJETO'!$B$11:$H$11,1,MATCH(Details[[#Headers],[BANKRUPTCY LAWYER]],Parameters[#Headers],0))*Details[[#This Row],[TRABALHO ÁRDUO]] -> #N/A | Q9: =INDEX(Parameters[],MATCH(Details[[#This Row],[TIPO DE PROJETO]],Parameters[TIPO DE PROJETO],0),MATCH(Details[[#Headers],[ADMIN STAFF]],Parameters[#Headers],0))*INDEX('PARÂMETROS DO PROJETO'!$B$11:$H$11,1,MATCH(Details[[#Headers],[ADMIN STAFF]],Parameters[#Headers],0))*Details[[#This Row],[TRABALHO ÁRDUO]] -> #N/A | R9: =INDEX(Parameters[],MATCH(Details[[#This Row],[TIPO DE PROJETO]],Parameters[TIPO DE PROJETO],0),MATCH(Details[[#Headers],[GENERAL PARTNER]],Parameters[#Headers],0))*INDEX('PARÂMETROS DO PROJETO'!$B$11:$H$11,1,MATCH(Details[[#Headers],[GENERAL PARTNER]],Parameters[#Headers],0))*Details[[#This Row],[TRABALHO REAL]] -> #N/A | S9: =INDEX(Parameters[],MATCH(Details[[#This Row],[TIPO DE PROJETO]],Parameters[TIPO DE PROJETO],0),MATCH(Details[[#Headers],[BUSINESS LAWYER]],Parameters[#Headers],0))*INDEX('PARÂMETROS DO PROJETO'!$B$11:$H$11,1,MATCH(Details[[#Headers],[BUSINESS LAWYER]],Parameters[#Headers],0))*Details[[#This Row],[TRABALHO REAL]] -> #N/A | T9: =INDEX(Parameters[],MATCH(Details[[#This Row],[TIPO DE PROJETO]],Parameters[TIPO DE PROJETO],0),MATCH(Details[[#Headers],[DEFENSE LITIGATOR]],Parameters[#Headers],0))*INDEX('PARÂMETROS DO PROJETO'!$B$11:$H$11,1,MATCH(Details[[#Headers],[DEFENSE LITIGATOR]],Parameters[#Headers],0))*Details[[#This Row],[TRABALHO REAL]] -> #N/A | U9: =INDEX(Parameters[],MATCH(Details[[#This Row],[TIPO DE PROJETO]],Parameters[TIPO DE PROJETO],0),MATCH(Details[[#Headers],[INTELLECTUAL PROPERTY LAWYER]],Parameters[#Headers],0))*INDEX('PARÂMETROS DO PROJETO'!$B$11:$H$11,1,MATCH(Details[[#Headers],[INTELLECTUAL PROPERTY LAWYER]],Parameters[#Headers],0))*Details[[#This Row],[TRABALHO REAL]] -> #N/A | V9: =INDEX(Parameters[],MATCH(Details[[#This Row],[TIPO DE PROJETO]],Parameters[TIPO DE PROJETO],0),MATCH(Details[[#Headers],[BANKRUPTCY LAWYER]],Parameters[#Headers],0))*INDEX('PARÂMETROS DO PROJETO'!$B$11:$H$11,1,MATCH(Details[[#Headers],[BANKRUPTCY LAWYER]],Parameters[#Headers],0))*Details[[#This Row],[TRABALHO REAL]] -> #N/A | W9: =INDEX(Parameters[],MATCH(Details[[#This Row],[TIPO DE PROJETO]],Parameters[TIPO DE PROJETO],0),MATCH(Details[[#Headers],[ADMIN STAFF]],Parameters[#Headers],0))*INDEX('PARÂMETROS DO PROJETO'!$B$11:$H$11,1,MATCH(Details[[#Headers],[ADMIN STAFF]],Parameters[#Headers],0))*Details[[#This Row],[TRABALHO REAL]] -> #N/A
B10: TOTAL | H10: =SUBTOTAL(109,Details[TRABALHO ÁRDUO]) -> 1500 | I10: =SUBTOTAL(109,Details[TRABALHO REAL]) -> 1510 | J10: =SUBTOTAL(109,Details[DURAÇÃO DA STMATA]) -> 190 | K10: =SUBTOTAL(109,Details[DURAÇÃO EFETIVA]) -> 176

Sheet TOTAIS DE PROJETOS
A1: Get Project Totals in this worksheet. Company Name is automatically updated in cell at right. Helpful instructions are in cells in this column. Arrow down to get started. | B1: ='PARÂMETROS DO PROJETO'!B1 -> Nome da empresa
A2: Title of this worksheet is in cell at right. | B2: ='PARÂMETROS DO PROJETO'!B2 -> Planeamento de projetos para escritórios de advogados
A4: Estimated label is in cell C4, Actual label in cell I4, and Info tip in cell P4. | C4: STAMATA | I4: ATUALIDADE | P4: INFO: This PivotTable will not refresh automatically. To refresh it, select it (any cell within the PivotTable), on the PIVOTTABLE TOOLS | ANALYZE ribbon tab select Refresh. Or press SHIFT + F10 by selecting the PivotTable and select Refresh.
A5: PivotTable starting in cell at right is auto updated | B5: NOME DO PROJETO | C5: MEMBRO GERAL | D5: EMPRESA | E5: ADVOGADO DE DEFESA | F5: PROPRIEDADE INTELECTUAL | G5: FALÊNCIA | H5: PESSOAL ADMINISTRATIVO | I5: SÓCIO GERAL | J5: NEGÓCIOS | K5: LITIGANTE DE DEFESA | L5: BANKRUPTCY | M5: INTELLECTUAL PROPERTY | N5: ADMIN STAFF
B6: Projeto 1 | C6: 7000 | D6: 20000 | E6: 0 | F6: 0 | G6: 0 | H6: 12500 | I6: 7700 | J6: 22000 | K6: 0 | L6: 0 | M6: 0 | N6: 13750
B7: Projeto 2 | C7: 14000 | D7: 40000 | E7: 0 | F7: 11000 | G7: 0 | H7: 20000 | I7: 13650 | J7: 39000 | K7: 0 | L7: 0 | M7: 10725 | N7: 19500
B8: Projeto 3 | C8: 35000 | D8: 0 | E8: 75000 | F8: 0 | G8: 0 | H8: 18750 | I8: 35000 | J8: 0 | K8: 75000 | L8: 0 | M8: 0 | N8: 18750
B9: Projeto 4 | C9: 5250 | D9: 0 | E9: 0 | F9: 24750 | G9: 0 | H9: 5625 | I9: 5075 | J9: 0 | K9: 0 | L9: 0 | M9: 23925 | N9: 5437.5
B10: Projeto 5 | C10: 17500 | D10: 6250 | E10: 30000 | F10: 0 | G10: 0 | H10: 9375 | I10: 17850 | J10: 6375 | K10: 30600 | L10: 0 | M10: 0 | N10: 9562.5
B11: Total General | C11: 78750 | D11: 66250 | E11: 105000 | F11: 35750 | G11: 0 | H11: 66250 | I11: 79275 | J11: 67375 | K11: 105600 | L11: 0 | M11: 34650 | N11: 67000
